BEGIN:VCALENDAR
VERSION:2.0
PRODID:-//Chichester Camera Club - ECPv6.15.20//NONSGML v1.0//EN
CALSCALE:GREGORIAN
METHOD:PUBLISH
X-WR-CALNAME:Chichester Camera Club
X-ORIGINAL-URL:https://chichestercameraclub.org.uk
X-WR-CALDESC:Events for Chichester Camera Club
REFRESH-INTERVAL;VALUE=DURATION:PT1H
X-Robots-Tag:noindex
X-PUBLISHED-TTL:PT1H
BEGIN:VTIMEZONE
TZID:Europe/London
BEGIN:DAYLIGHT
TZOFFSETFROM:+0000
TZOFFSETTO:+0100
TZNAME:BST
DTSTART:20240331T010000
END:DAYLIGHT
BEGIN:STANDARD
TZOFFSETFROM:+0100
TZOFFSETTO:+0000
TZNAME:GMT
DTSTART:20241027T010000
END:STANDARD
BEGIN:DAYLIGHT
TZOFFSETFROM:+0000
TZOFFSETTO:+0100
TZNAME:BST
DTSTART:20250330T010000
END:DAYLIGHT
BEGIN:STANDARD
TZOFFSETFROM:+0100
TZOFFSETTO:+0000
TZNAME:GMT
DTSTART:20251026T010000
END:STANDARD
BEGIN:DAYLIGHT
TZOFFSETFROM:+0000
TZOFFSETTO:+0100
TZNAME:BST
DTSTART:20260329T010000
END:DAYLIGHT
BEGIN:STANDARD
TZOFFSETFROM:+0100
TZOFFSETTO:+0000
TZNAME:GMT
DTSTART:20261025T010000
END:STANDARD
BEGIN:DAYLIGHT
TZOFFSETFROM:+0000
TZOFFSETTO:+0100
TZNAME:BST
DTSTART:20270328T010000
END:DAYLIGHT
BEGIN:STANDARD
TZOFFSETFROM:+0100
TZOFFSETTO:+0000
TZNAME:GMT
DTSTART:20271031T010000
END:STANDARD
END:VTIMEZONE
BEGIN:VEVENT
DTSTART;TZID=Europe/London:20260226T193000
DTEND;TZID=Europe/London:20260226T213000
DTSTAMP:20260422T232150
CREATED:20250801T101604Z
LAST-MODIFIED:20250801T101604Z
UID:25124-1772134200-1772141400@chichestercameraclub.org.uk
SUMMARY:Speaker - Steve Best
DESCRIPTION:‘Steve Best Shoots’. \nAs a comedian Steve has performed all over the world including South Africa\, Malaysia\, Indonesia\, Bosnia\, South Africa\, Holland\, Denmark\, The Falkland Islands. \nSteve has a London studio space and has taken head shots and live action shots for many comedians\, performers\, musicians\, and authors for their PR\, brochure\, live shows and books including David Baddiel\, Tim Key\, Alan Davies and Mark Billingham. \nSteve’s talk will follow his journey from a stand-up comedian to a photographer of famous comedians and performers. \nhttps://www.stevebest.com
URL:https://chichestercameraclub.org.uk/event/steve-best/
CATEGORIES:Club Meeting
ATTACH;FMTTYPE=image/jpeg:https://chichestercameraclub.org.uk/wp-content/uploads/2025/08/Steve-Best-Image-1.jpg
END:VEVENT
BEGIN:VEVENT
DTSTART;TZID=Europe/London:20260224T193000
DTEND;TZID=Europe/London:20260224T213000
DTSTAMP:20260422T232150
CREATED:20250903T174508Z
LAST-MODIFIED:20250903T174508Z
UID:25260-1771961400-1771968600@chichestercameraclub.org.uk
SUMMARY:Camera Craft
DESCRIPTION:Camera Craft
URL:https://chichestercameraclub.org.uk/event/camera-craft-5/
CATEGORIES:Group Meeting
END:VEVENT
BEGIN:VEVENT
DTSTART;TZID=Europe/London:20260219T193000
DTEND;TZID=Europe/London:20260219T213000
DTSTAMP:20260422T232150
CREATED:20250801T101603Z
LAST-MODIFIED:20250801T101603Z
UID:25123-1771529400-1771536600@chichestercameraclub.org.uk
SUMMARY:2nd Club / Intermediate Print Competition.
DESCRIPTION:Judge – Chris Dixon
URL:https://chichestercameraclub.org.uk/event/mike-taylor/
CATEGORIES:Club Meeting
END:VEVENT
BEGIN:VEVENT
DTSTART;TZID=Europe/London:20260217T193000
DTEND;TZID=Europe/London:20260217T213000
DTSTAMP:20260422T232150
CREATED:20260113T135521Z
LAST-MODIFIED:20260113T135521Z
UID:26186-1771356600-1771363800@chichestercameraclub.org.uk
SUMMARY:RPS Group
DESCRIPTION:The RPS Group meets again on Tuesday 17th February – come along to find our more about the distinctions offered by the Royal Photographic Society\, see some work in progress and learn more about those ‘Statements of Intent’ required for the Associate and Fellowship levels. \n\n\n\n7.15pm for a 7.30pm start \n\n\n\nThe featured image is from Jane Webster’s recent successful LRPS
URL:https://chichestercameraclub.org.uk/event/rps-group-87/
CATEGORIES:Group Meeting
ATTACH;FMTTYPE=image/jpeg:https://chichestercameraclub.org.uk/wp-content/uploads/2025/12/05-1.jpeg
END:VEVENT
BEGIN:VEVENT
DTSTART;TZID=Europe/London:20260212T193000
DTEND;TZID=Europe/London:20260212T213000
DTSTAMP:20260422T232150
CREATED:20250801T101602Z
LAST-MODIFIED:20250801T101602Z
UID:25122-1770924600-1770931800@chichestercameraclub.org.uk
SUMMARY:Speaker - Eva Kalpadak
DESCRIPTION:‘The empty space in photography as a metaphor for creativity’. \n  \nEva was born in Crete\, Greece. She is currently based in Brighton\, where she works as a fine art photographer\, PGCE-qualified photography tutor and mentor\, and certified creativity life coach. \nIn her artistic practice\, Eva works against the conventions of the photographic medium\, using photography to question its own nature and to create a subtle tension between what is seen and what is perceived. \nhttps://www.evakalpadaki.co.uk
URL:https://chichestercameraclub.org.uk/event/eva-kalpadak/
CATEGORIES:Club Meeting
ATTACH;FMTTYPE=image/jpeg:https://chichestercameraclub.org.uk/wp-content/uploads/2025/08/RED-SPACE-1.jpg
END:VEVENT
BEGIN:VEVENT
DTSTART;TZID=Europe/London:20260210T193000
DTEND;TZID=Europe/London:20260210T213000
DTSTAMP:20260422T232150
CREATED:20251015T135606Z
LAST-MODIFIED:20251015T135606Z
UID:25497-1770751800-1770759000@chichestercameraclub.org.uk
SUMMARY:Image and Presentation
DESCRIPTION:Image and Presentation
URL:https://chichestercameraclub.org.uk/event/image-and-presentation-5/
CATEGORIES:Group Meeting
END:VEVENT
BEGIN:VEVENT
DTSTART;TZID=Europe/London:20260205T193000
DTEND;TZID=Europe/London:20260205T213000
DTSTAMP:20260422T232150
CREATED:20250801T101448Z
LAST-MODIFIED:20250801T101448Z
UID:25120-1770319800-1770327000@chichestercameraclub.org.uk
SUMMARY:2nd Club / Intermediate PDI Competition.
DESCRIPTION:Judge – Ashley Francis
URL:https://chichestercameraclub.org.uk/event/ashley-francis/
CATEGORIES:Club Meeting
END:VEVENT
BEGIN:VEVENT
DTSTART;TZID=Europe/London:20260202T190000
DTEND;TZID=Europe/London:20260202T213000
DTSTAMP:20260422T232150
CREATED:20250902T075131Z
LAST-MODIFIED:20250902T075131Z
UID:25233-1770058800-1770067800@chichestercameraclub.org.uk
SUMMARY:PAGB Group
DESCRIPTION:PAGB Group
URL:https://chichestercameraclub.org.uk/event/pagb-group-82/
CATEGORIES:Group Meeting
END:VEVENT
BEGIN:VEVENT
DTSTART;TZID=Europe/London:20260129T193000
DTEND;TZID=Europe/London:20260129T213000
DTSTAMP:20260422T232150
CREATED:20260127T163539Z
LAST-MODIFIED:20260127T163539Z
UID:25119-1769715000-1769722200@chichestercameraclub.org.uk
SUMMARY:Speaker - Antony Penrose
DESCRIPTION:Lee and LEE The Making of the movie’ and ‘Back Stage at the Lee Miller Archives’. \nThe behind-the-scenes story of the decade long journey to the release of the major feature film ‘LEE’\, starring Kate Winslet. The movie is based on Antony’s biography of his mother\, The Lives of Lee Miller published in 1985\, and a behind the scenes look at the creation of the Lee Miller Archive which houses more than 60\,000 negatives of Lee Miller’s work\, 10\,000 vintage prints. \nFree for CCC Members.     £10 for visitors.
URL:https://chichestercameraclub.org.uk/event/antony-penrose/
CATEGORIES:Club Meeting
ATTACH;FMTTYPE=image/jpeg:https://chichestercameraclub.org.uk/wp-content/uploads/2025/08/Lee-Miller-Image2-1.jpg
END:VEVENT
BEGIN:VEVENT
DTSTART;TZID=Europe/London:20260127T193000
DTEND;TZID=Europe/London:20260127T213000
DTSTAMP:20260422T232150
CREATED:20250903T174508Z
LAST-MODIFIED:20250903T174508Z
UID:25259-1769542200-1769549400@chichestercameraclub.org.uk
SUMMARY:Camera Craft
DESCRIPTION:Camera Craft
URL:https://chichestercameraclub.org.uk/event/camera-craft-4/
CATEGORIES:Group Meeting
END:VEVENT
BEGIN:VEVENT
DTSTART;TZID=Europe/London:20260120T193000
DTEND;TZID=Europe/London:20260120T213000
DTSTAMP:20260422T232150
CREATED:20260113T114837Z
LAST-MODIFIED:20260113T114837Z
UID:26171-1768937400-1768944600@chichestercameraclub.org.uk
SUMMARY:RPS Special Interest Group
DESCRIPTION:We’ve taken a break with the RPS group as it has been unclear what changes the Royal Photographic Society is planning to the distinctions and when these are to be implemented.  Now however we do know there will be no changes made in 2026 and so we reconvene on 20th January with an insight into the Licentiate process with work from Jane Webster’s recent successful LRPS and what the statement of intent means to the category an Associate or Fellowship is subjected under with Michael Palamer’s recent FRPS in Visual Art and Contemporary.  \n\n\n\nTo find out more join us at 7.15pm for 7.30pm – no need to bring work
URL:https://chichestercameraclub.org.uk/event/rps-special-interest-group/
LOCATION:Tangmere Village Hall\, Malcolm Road\, Tangmere\, West Sussex\, PO20 2HS\, United Kingdom
CATEGORIES:Group Meeting
END:VEVENT
BEGIN:VEVENT
DTSTART;TZID=Europe/London:20260113T193000
DTEND;TZID=Europe/London:20260113T213000
DTSTAMP:20260422T232150
CREATED:20251015T135606Z
LAST-MODIFIED:20251015T135606Z
UID:25496-1768332600-1768339800@chichestercameraclub.org.uk
SUMMARY:Image and Presentation
DESCRIPTION:Image and Presentation
URL:https://chichestercameraclub.org.uk/event/image-and-presentation-4/
CATEGORIES:Group Meeting
END:VEVENT
BEGIN:VEVENT
DTSTART;TZID=Europe/London:20260112T190000
DTEND;TZID=Europe/London:20260112T213000
DTSTAMP:20260422T232150
CREATED:20250902T075131Z
LAST-MODIFIED:20250902T075131Z
UID:25232-1768244400-1768253400@chichestercameraclub.org.uk
SUMMARY:PAGB Group
DESCRIPTION:PAGB Group
URL:https://chichestercameraclub.org.uk/event/pagb-group-81/
CATEGORIES:Group Meeting
END:VEVENT
BEGIN:VEVENT
DTSTART;TZID=Europe/London:20260110T140000
DTEND;TZID=Europe/London:20260110T173000
DTSTAMP:20260422T232150
CREATED:20251221T165935Z
LAST-MODIFIED:20251221T165935Z
UID:26094-1768053600-1768066200@chichestercameraclub.org.uk
SUMMARY:January Photowalk
DESCRIPTION:At the Tate Modern and South Bank. If interested\, please contact mailto:photowalks@chichestercameraclub.org.uk and details will follow.
URL:https://chichestercameraclub.org.uk/event/january-photowalk-2/
ATTACH;FMTTYPE=image/jpeg:https://chichestercameraclub.org.uk/wp-content/uploads/2025/12/thumbs_Giles-Smith-A-Free-Moment-10.0-1.jpg
END:VEVENT
BEGIN:VEVENT
DTSTART;TZID=Europe/London:20251211T190000
DTEND;TZID=Europe/London:20251211T213000
DTSTAMP:20260422T232150
CREATED:20250801T092740Z
LAST-MODIFIED:20250801T092740Z
UID:25115-1765479600-1765488600@chichestercameraclub.org.uk
SUMMARY:Christmas Social
DESCRIPTION:This is our last meeting before Christmas. \nTradition has it that this is the evening we eat\, drink\, and make merry. This year we are planning a quiz\, so please arrive with your thinking caps on. \nPlease bring something to eat and drink and be prepared to talk to us many people as possible during the evening.
URL:https://chichestercameraclub.org.uk/event/christmas-social-3/
CATEGORIES:Club Meeting
ATTACH;FMTTYPE=image/jpeg:https://chichestercameraclub.org.uk/wp-content/uploads/2025/08/DSC0092-1.jpg
END:VEVENT
BEGIN:VEVENT
DTSTART;TZID=Europe/London:20251209T193000
DTEND;TZID=Europe/London:20251209T213000
DTSTAMP:20260422T232150
CREATED:20251008T202449Z
LAST-MODIFIED:20251008T202449Z
UID:25445-1765308600-1765315800@chichestercameraclub.org.uk
SUMMARY:Image and Presentation
DESCRIPTION:Image and Presentation
URL:https://chichestercameraclub.org.uk/event/image-and-presentation-3/
END:VEVENT
BEGIN:VEVENT
DTSTART;TZID=Europe/London:20251204T190000
DTEND;TZID=Europe/London:20251204T213000
DTSTAMP:20260422T232150
CREATED:20250801T092740Z
LAST-MODIFIED:20250801T092740Z
UID:25114-1764874800-1764883800@chichestercameraclub.org.uk
SUMMARY:John Tilsley
DESCRIPTION:2nd Advanced PDI Competition.
URL:https://chichestercameraclub.org.uk/event/john-tilsley-2/
CATEGORIES:Club Meeting
END:VEVENT
BEGIN:VEVENT
DTSTART;TZID=Europe/London:20251201T190000
DTEND;TZID=Europe/London:20251201T213000
DTSTAMP:20260422T232150
CREATED:20250902T075131Z
LAST-MODIFIED:20250902T075131Z
UID:25231-1764615600-1764624600@chichestercameraclub.org.uk
SUMMARY:PAGB Group
DESCRIPTION:PAGB Group
URL:https://chichestercameraclub.org.uk/event/pagb-group-80/
CATEGORIES:Group Meeting
END:VEVENT
BEGIN:VEVENT
DTSTART;TZID=Europe/London:20251130T073000
DTEND;TZID=Europe/London:20251130T140000
DTSTAMP:20260422T232150
CREATED:20251103T172938Z
LAST-MODIFIED:20251103T172938Z
UID:25693-1764487800-1764511200@chichestercameraclub.org.uk
SUMMARY:Landscape photowalk
DESCRIPTION:Richard Paterson will be leading a walk in his favourite local landscapes. Meet at Houghton Forest car park BN18 9FD at 7:30am to catch the mist. If interested\, please contact photowalks@chichestercameraclub.org.uk
URL:https://chichestercameraclub.org.uk/event/landscape-photowalk/
END:VEVENT
BEGIN:VEVENT
DTSTART;TZID=Europe/London:20251127T190000
DTEND;TZID=Europe/London:20251127T213000
DTSTAMP:20260422T232150
CREATED:20250801T092739Z
LAST-MODIFIED:20250801T092739Z
UID:25113-1764270000-1764279000@chichestercameraclub.org.uk
SUMMARY:David Smith
DESCRIPTION:SCPF League Print Competition (Division 1)
URL:https://chichestercameraclub.org.uk/event/david-smith/
CATEGORIES:Club Meeting
END:VEVENT
BEGIN:VEVENT
DTSTART;TZID=Europe/London:20251125T193000
DTEND;TZID=Europe/London:20251125T213000
DTSTAMP:20260422T232150
CREATED:20250903T174508Z
LAST-MODIFIED:20250903T174508Z
UID:25258-1764099000-1764106200@chichestercameraclub.org.uk
SUMMARY:Camera Craft
DESCRIPTION:Camera Craft
URL:https://chichestercameraclub.org.uk/event/camera-craft-3/
CATEGORIES:Group Meeting
END:VEVENT
BEGIN:VEVENT
DTSTART;TZID=Europe/London:20251120T193000
DTEND;TZID=Europe/London:20251120T213000
DTSTAMP:20260422T232150
CREATED:20251103T174519Z
LAST-MODIFIED:20251103T174519Z
UID:25695-1763667000-1763674200@chichestercameraclub.org.uk
SUMMARY:Special General Meeting
DESCRIPTION:A short meeting to approve the Club’s accounts for 2024/25 will be held at Tangmere\, alongside David Jenner’s presentation. The draft accounts are on the website at Documents>Published Documents>Finance Reports>2024-25. Please send any questions or comments on the accounts before 13th November to mailto:secretary@chichestercameraclub.org.uk
URL:https://chichestercameraclub.org.uk/event/special-general-meeting/
END:VEVENT
BEGIN:VEVENT
DTSTART;TZID=Europe/London:20251118T193000
DTEND;TZID=Europe/London:20251118T213000
DTSTAMP:20260422T232150
CREATED:20250913T115444Z
LAST-MODIFIED:20250913T115444Z
UID:25313-1763494200-1763501400@chichestercameraclub.org.uk
SUMMARY:Multi Media Group
DESCRIPTION:We are planning a varied evening\, Jeff Owen will be showing how to put together a simple AV using photos\, some video and a music track. \nCharlie Allison will be showing some of his work with Chichester Fringe and the Chichester Film group and John Bradshaw will be talking about his latest AV projects.
URL:https://chichestercameraclub.org.uk/event/multi-media-goup/
CATEGORIES:Group Meeting
END:VEVENT
BEGIN:VEVENT
DTSTART;TZID=Europe/London:20251116T103000
DTEND;TZID=Europe/London:20251116T170000
DTSTAMP:20260422T232150
CREATED:20251024T125924Z
LAST-MODIFIED:20251024T125924Z
UID:25601-1763289000-1763312400@chichestercameraclub.org.uk
SUMMARY:Brighton Photowalk
DESCRIPTION:Meet Brian Muir and Giles Smith at Brighton railway station for a gentle day of street photography.
URL:https://chichestercameraclub.org.uk/event/brighton-photowalk/
END:VEVENT
BEGIN:VEVENT
DTSTART;TZID=Europe/London:20251113T190000
DTEND;TZID=Europe/London:20251113T213000
DTSTAMP:20260422T232150
CREATED:20250801T092737Z
LAST-MODIFIED:20250801T092737Z
UID:25111-1763060400-1763069400@chichestercameraclub.org.uk
SUMMARY:1st Club / Intermediate Print Competition.
DESCRIPTION:Judge – Roger Reynolds Hon FRPS FBPPA APAGB FBPE \nhttp://www.rogerreynolds.co.uk
URL:https://chichestercameraclub.org.uk/event/judge-tbc-3/
CATEGORIES:Club Meeting
ATTACH;FMTTYPE=image/jpeg:https://chichestercameraclub.org.uk/wp-content/uploads/2025/08/Roger-REYNOLDS_image-1.jpg
END:VEVENT
BEGIN:VEVENT
DTSTART;TZID=Europe/London:20251103T190000
DTEND;TZID=Europe/London:20251103T213000
DTSTAMP:20260422T232150
CREATED:20250902T075130Z
LAST-MODIFIED:20250902T075130Z
UID:25230-1762196400-1762205400@chichestercameraclub.org.uk
SUMMARY:PAGB Group
DESCRIPTION:PAGB Group
URL:https://chichestercameraclub.org.uk/event/pagb-group-79/
CATEGORIES:Group Meeting
END:VEVENT
BEGIN:VEVENT
DTSTART;TZID=Europe/London:20251030T190000
DTEND;TZID=Europe/London:20251030T213000
DTSTAMP:20260422T232150
CREATED:20250801T092536Z
LAST-MODIFIED:20250801T092536Z
UID:25104-1761850800-1761859800@chichestercameraclub.org.uk
SUMMARY:1st Club / Intermediate PDI Competition.
DESCRIPTION:Judge – Bob Hart
URL:https://chichestercameraclub.org.uk/event/judge-tbc-2/
CATEGORIES:Club Meeting
ATTACH;FMTTYPE=image/jpeg:https://chichestercameraclub.org.uk/wp-content/uploads/2025/08/BH-Mugshot-scaled-1.jpg
END:VEVENT
BEGIN:VEVENT
DTSTART;TZID=Europe/London:20251028T193000
DTEND;TZID=Europe/London:20251028T213000
DTSTAMP:20260422T232150
CREATED:20250903T174508Z
LAST-MODIFIED:20250903T174508Z
UID:25257-1761679800-1761687000@chichestercameraclub.org.uk
SUMMARY:Camera Craft
DESCRIPTION:Camera Craft
URL:https://chichestercameraclub.org.uk/event/camera-craft-2/
CATEGORIES:Group Meeting
END:VEVENT
BEGIN:VEVENT
DTSTART;TZID=Europe/London:20251023T193000
DTEND;TZID=Europe/London:20251023T213000
DTSTAMP:20260422T232150
CREATED:20250801T092535Z
LAST-MODIFIED:20250801T092535Z
UID:25103-1761247800-1761255000@chichestercameraclub.org.uk
SUMMARY:Daniel Bridge
DESCRIPTION:Top Ten Tips. \nDaniel’s Ten Top Tips photography talk runs through a variety of tips that can improve anyone’s photography\, from basic technical aspects\, to composition\, and subjects. \nDaniel Bridge is a professional photography tutor and nature photographer based in Billericay\, Essex\, running workshops and providing private photography tuition for clients of all abilities. With 22 years tutoring experience\, and full time since 2015\, Daniel has helped thousands of customers along their photographic journey. \nhttps://www.danielbridge.co.uk/ \n 
URL:https://chichestercameraclub.org.uk/event/daniel-bridge-2/
CATEGORIES:Club Meeting
ATTACH;FMTTYPE=image/jpeg:https://chichestercameraclub.org.uk/wp-content/uploads/2025/08/Daniel-Bridge-Hi-Res-5020514-002-1.jpg
END:VEVENT
BEGIN:VEVENT
DTSTART;TZID=Europe/London:20251021T193000
DTEND;TZID=Europe/London:20251021T213000
DTSTAMP:20260422T232150
CREATED:20250913T115444Z
LAST-MODIFIED:20250913T115444Z
UID:25312-1761075000-1761082200@chichestercameraclub.org.uk
SUMMARY:Portrait Group
DESCRIPTION:Welcome to the Portrait Group Kick off Meeting where we will set up studio flash lights and all have a chance to take some portraits of each other. Bring your camera.  Also bring any portrait images from the street or party in Chichester or Chichester Pride or any other Portraits.We will help you get your camera connected to the lights and any lenses from 50mm to 90mm appropriate. No tripod required.If not sure how camera can be used in Studio situation bring handbook.Jan Davis \, Andy Dulson
URL:https://chichestercameraclub.org.uk/event/portrait-group/
CATEGORIES:Group Meeting
ATTACH;FMTTYPE=image/jpeg:https://chichestercameraclub.org.uk/wp-content/uploads/2025/09/DSF0765-1.jpeg
END:VEVENT
END:VCALENDAR