BEGIN:VCALENDAR
VERSION:2.0
PRODID:-//Chichester Camera Club - ECPv6.15.20//NONSGML v1.0//EN
CALSCALE:GREGORIAN
METHOD:PUBLISH
X-WR-CALNAME:Chichester Camera Club
X-ORIGINAL-URL:https://chichestercameraclub.org.uk
X-WR-CALDESC:Events for Chichester Camera Club
REFRESH-INTERVAL;VALUE=DURATION:PT1H
X-Robots-Tag:noindex
X-PUBLISHED-TTL:PT1H
BEGIN:VTIMEZONE
TZID:Europe/London
BEGIN:DAYLIGHT
TZOFFSETFROM:+0000
TZOFFSETTO:+0100
TZNAME:BST
DTSTART:20240331T010000
END:DAYLIGHT
BEGIN:STANDARD
TZOFFSETFROM:+0100
TZOFFSETTO:+0000
TZNAME:GMT
DTSTART:20241027T010000
END:STANDARD
BEGIN:DAYLIGHT
TZOFFSETFROM:+0000
TZOFFSETTO:+0100
TZNAME:BST
DTSTART:20250330T010000
END:DAYLIGHT
BEGIN:STANDARD
TZOFFSETFROM:+0100
TZOFFSETTO:+0000
TZNAME:GMT
DTSTART:20251026T010000
END:STANDARD
BEGIN:DAYLIGHT
TZOFFSETFROM:+0000
TZOFFSETTO:+0100
TZNAME:BST
DTSTART:20260329T010000
END:DAYLIGHT
BEGIN:STANDARD
TZOFFSETFROM:+0100
TZOFFSETTO:+0000
TZNAME:GMT
DTSTART:20261025T010000
END:STANDARD
END:VTIMEZONE
BEGIN:VEVENT
DTSTART;TZID=Europe/London:20251002T193000
DTEND;TZID=Europe/London:20251002T213000
DTSTAMP:20260423T130112
CREATED:20250801T092526Z
LAST-MODIFIED:20250801T092526Z
UID:25100-1759433400-1759440600@chichestercameraclub.org.uk
SUMMARY:1st Advanced PDI Competition.
DESCRIPTION:Ann Healey FRPS DPAGB EFIAP/g A.APS BPE5* \n 
URL:https://chichestercameraclub.org.uk/event/judge-tbc/
CATEGORIES:Club Meeting
END:VEVENT
BEGIN:VEVENT
DTSTART;TZID=Europe/London:20250929T190000
DTEND;TZID=Europe/London:20250929T213000
DTSTAMP:20260423T130112
CREATED:20250902T075130Z
LAST-MODIFIED:20250902T075130Z
UID:25229-1759172400-1759181400@chichestercameraclub.org.uk
SUMMARY:PAGB Group
DESCRIPTION:PAGB Group
URL:https://chichestercameraclub.org.uk/event/pagb-group-78/
CATEGORIES:Group Meeting
END:VEVENT
BEGIN:VEVENT
DTSTART;TZID=Europe/London:20250925T193000
DTEND;TZID=Europe/London:20250925T213000
DTSTAMP:20260423T130112
CREATED:20250801T092525Z
LAST-MODIFIED:20250801T092525Z
UID:25099-1758828600-1758835800@chichestercameraclub.org.uk
SUMMARY:Paul Davison
DESCRIPTION:Where Heaven Meets Hell\, a Slightly Surreal Slum and An African Adventure. \nPaul’s talk is in 4 parts. A bit of a background about his photography\, a section on Africa and 2 sections on Indonesia. \nSince he can remember\, Paul has always wanted to get out and explore the world\, to experience new cultures\, meet people from all walks of life\, and venture into the planet’s wild and untouched corners. But it wasn’t until he began traveling that he discovered a passion for photography. Although he loves to travel to dramatic landscapes and spectacular ancient ruins and cities\, it’s the human stories and cultural encounters that he finds the most interesting and rewarding. \nhttps://www.pauldavisonphotography.com/
URL:https://chichestercameraclub.org.uk/event/paul-davison-2/
CATEGORIES:Club Meeting
ATTACH;FMTTYPE=image/jpeg:https://chichestercameraclub.org.uk/wp-content/uploads/2025/08/DSC04112-P-scaled-1.jpeg
END:VEVENT
BEGIN:VEVENT
DTSTART;TZID=Europe/London:20250918T193000
DTEND;TZID=Europe/London:20250918T213000
DTSTAMP:20260423T130112
CREATED:20250801T092525Z
LAST-MODIFIED:20250801T092525Z
UID:25098-1758223800-1758231000@chichestercameraclub.org.uk
SUMMARY:Jamie Fielding
DESCRIPTION:The Wonder of Woodlands and Finding Order in the Chaos. \nJamie Fielding\, a Sussex based photographer with a passion for Woodland\, Land and Seascape photography. He is lucky enough to have a National Park and the Sussex coast on his doorstep and there is nothing he loves more than getting out and exploring these areas with his camera. \nhttp://www.jamiefieldingphotography.com
URL:https://chichestercameraclub.org.uk/event/jamie-fielding/
CATEGORIES:Club Meeting
ATTACH;FMTTYPE=image/jpeg:https://chichestercameraclub.org.uk/wp-content/uploads/2025/08/Jamie-Fielding-Image-scaled-1.jpg
END:VEVENT
BEGIN:VEVENT
DTSTART;TZID=Europe/London:20250916T193000
DTEND;TZID=Europe/London:20250916T213000
DTSTAMP:20260423T130112
CREATED:20250901T170902Z
LAST-MODIFIED:20250901T170902Z
UID:25225-1758051000-1758058200@chichestercameraclub.org.uk
SUMMARY:RPS Group Postponed
DESCRIPTION:RPS Group
URL:https://chichestercameraclub.org.uk/event/rps-group-86/
LOCATION:Tangmere Village Hall\, Malcolm Road\, Tangmere\, West Sussex\, PO20 2HS\, United Kingdom
CATEGORIES:Group Meeting
END:VEVENT
BEGIN:VEVENT
DTSTART;TZID=Europe/London:20250911T193000
DTEND;TZID=Europe/London:20250911T213000
DTSTAMP:20260423T130112
CREATED:20250801T092524Z
LAST-MODIFIED:20250801T092524Z
UID:25097-1757619000-1757626200@chichestercameraclub.org.uk
SUMMARY:Tony North - Zoom Meeting
DESCRIPTION:Join Zoom Meetinghttps://us02web.zoom.us/j/86513568292?pwd=RsyXXFHritag9LNV8VbYPOpDmqC5oj.1 \n\n\n\nMeeting ID: 865 1356 8292Passcode: letmein \n\n\n\n\n\n \n\n\n\n\nThe Art of Macro (via Zoom). \nThis talk is about Tony’s experience and knowledge of macro photography in the field\, shooting insects. It covers his philosophy and approach to photography as an art. He will of course show lots of his best macro images\, but the talk is about far more than a set of pretty pictures. \nhttp://www.artofmacro.com
URL:https://chichestercameraclub.org.uk/event/tony-north-2/
CATEGORIES:Club Meeting
ATTACH;FMTTYPE=image/jpeg:https://chichestercameraclub.org.uk/wp-content/uploads/2025/08/AOM-ad-1.jpg
END:VEVENT
BEGIN:VEVENT
DTSTART;TZID=Europe/London:20250909T193000
DTEND;TZID=Europe/London:20250909T213000
DTSTAMP:20260423T130112
CREATED:20250901T170726Z
LAST-MODIFIED:20250901T170726Z
UID:25223-1757446200-1757453400@chichestercameraclub.org.uk
SUMMARY:New Starters Meeting
DESCRIPTION:New Starters Meeting
URL:https://chichestercameraclub.org.uk/event/new-starters-meeting/
LOCATION:Tangmere Village Hall\, Malcolm Road\, Tangmere\, West Sussex\, PO20 2HS\, United Kingdom
END:VEVENT
BEGIN:VEVENT
DTSTART;TZID=Europe/London:20250908T190000
DTEND;TZID=Europe/London:20250908T213000
DTSTAMP:20260423T130112
CREATED:20250901T170339Z
LAST-MODIFIED:20250901T170339Z
UID:25217-1757358000-1757367000@chichestercameraclub.org.uk
SUMMARY:PAGB Group Meeting
DESCRIPTION:PAGB Group Meeting
URL:https://chichestercameraclub.org.uk/event/pagb-group-meeting-12/
LOCATION:Tangmere Village Hall\, Malcolm Road\, Tangmere\, West Sussex\, PO20 2HS\, United Kingdom
CATEGORIES:Group Meeting
END:VEVENT
BEGIN:VEVENT
DTSTART;TZID=Europe/London:20250904T193000
DTEND;TZID=Europe/London:20250904T213000
DTSTAMP:20260423T130112
CREATED:20250801T092524Z
LAST-MODIFIED:20250801T092524Z
UID:25096-1757014200-1757021400@chichestercameraclub.org.uk
SUMMARY:Ian Howard
DESCRIPTION:The Truth is Black and White (with shades of grey!) \nIan’s talk is an in depth look at this key aspect of photography. Looking at the theory behind monochrome photography. Different ways of processing a black and white image\, and tips and tricks to help you produce better images. \nhttps://www.lensclof.com
URL:https://chichestercameraclub.org.uk/event/ian-howard-2/
CATEGORIES:Club Meeting
ATTACH;FMTTYPE=image/png:https://chichestercameraclub.org.uk/wp-content/uploads/2025/08/Ian-Howard-Image_1-1.png
END:VEVENT
END:VCALENDAR