BEGIN:VCALENDAR
VERSION:2.0
PRODID:-//Chichester Camera Club - ECPv6.15.20//NONSGML v1.0//EN
CALSCALE:GREGORIAN
METHOD:PUBLISH
X-WR-CALNAME:Chichester Camera Club
X-ORIGINAL-URL:https://chichestercameraclub.org.uk
X-WR-CALDESC:Events for Chichester Camera Club
REFRESH-INTERVAL;VALUE=DURATION:PT1H
X-Robots-Tag:noindex
X-PUBLISHED-TTL:PT1H
BEGIN:VTIMEZONE
TZID:Europe/London
BEGIN:DAYLIGHT
TZOFFSETFROM:+0000
TZOFFSETTO:+0100
TZNAME:BST
DTSTART:20240331T010000
END:DAYLIGHT
BEGIN:STANDARD
TZOFFSETFROM:+0100
TZOFFSETTO:+0000
TZNAME:GMT
DTSTART:20241027T010000
END:STANDARD
BEGIN:DAYLIGHT
TZOFFSETFROM:+0000
TZOFFSETTO:+0100
TZNAME:BST
DTSTART:20250330T010000
END:DAYLIGHT
BEGIN:STANDARD
TZOFFSETFROM:+0100
TZOFFSETTO:+0000
TZNAME:GMT
DTSTART:20251026T010000
END:STANDARD
BEGIN:DAYLIGHT
TZOFFSETFROM:+0000
TZOFFSETTO:+0100
TZNAME:BST
DTSTART:20260329T010000
END:DAYLIGHT
BEGIN:STANDARD
TZOFFSETFROM:+0100
TZOFFSETTO:+0000
TZNAME:GMT
DTSTART:20261025T010000
END:STANDARD
END:VTIMEZONE
BEGIN:VEVENT
DTSTART;TZID=Europe/London:20251120T193000
DTEND;TZID=Europe/London:20251120T213000
DTSTAMP:20260422T231326
CREATED:20251103T174519Z
LAST-MODIFIED:20251103T174519Z
UID:25695-1763667000-1763674200@chichestercameraclub.org.uk
SUMMARY:Special General Meeting
DESCRIPTION:A short meeting to approve the Club’s accounts for 2024/25 will be held at Tangmere\, alongside David Jenner’s presentation. The draft accounts are on the website at Documents>Published Documents>Finance Reports>2024-25. Please send any questions or comments on the accounts before 13th November to mailto:secretary@chichestercameraclub.org.uk
URL:https://chichestercameraclub.org.uk/event/special-general-meeting/
END:VEVENT
END:VCALENDAR